BEGIN:VCALENDAR
VERSION:2.0
PRODID:-//Squarespace Inc/Squarespace 6//v6//EN
BEGIN:VEVENT
UID:5b862808352f53267bc44491@squarespace.com
DTSTAMP:20180829T052944Z
DTSTART:20181201T150000Z
DTEND:20181202T210000Z
SUMMARY:Rigging 101
GEO:-33.873483;151.151323
LOCATION:Red Box\, 91 Canal Road\, Lilyfield\, NSW\, Australia
END:VEVENT
END:VCALENDAR
