BEGIN:VCALENDAR
VERSION:2.0
PRODID:-//Squarespace Inc/Squarespace 6//v6//EN
BEGIN:VEVENT
UID:5b878f158985830fa4f7c7c4@squarespace.com
DTSTAMP:20180917T034521Z
DTSTART:20180927T200000Z
DTEND:20180927T210000Z
SUMMARY:Kid's Workshop - Parkour
GEO:37.033234;-95.639863
LOCATION:Red Box\, 91 Canal Road\, Lilyfield\, NSW\, 2040\, Australia
END:VEVENT
END:VCALENDAR
