BEGIN:VCALENDAR
VERSION:2.0
PRODID:-//Squarespace Inc/Squarespace 6//v6//EN
BEGIN:VEVENT
UID:5b878e636d2a73184e33a9d4@squarespace.com
DTSTAMP:20180917T034502Z
DTSTART:20180926T203000Z
DTEND:20180926T213000Z
SUMMARY:Kid's Workshop - Parkour
GEO:37.033234;-95.639863
LOCATION:Red Box\, 91 Canal Road\, Lilyfield\, NSW\, 2040\, Australia
END:VEVENT
END:VCALENDAR
