BEGIN:VCALENDAR
VERSION:2.0
PRODID:-//Squarespace Inc/Squarespace 6//v6//EN
BEGIN:VEVENT
UID:5c46735d898583fc9a98e8a8@squarespace.com
DTSTAMP:20190122T020356Z
DTSTART:20190301T133000Z
DTEND:20190426T173000Z
SUMMARY:Open Legs Training
END:VEVENT
END:VCALENDAR
