BEGIN:VCALENDAR
VERSION:2.0
PRODID:-//Squarespace Inc/Squarespace 6//v6//EN
BEGIN:VEVENT
UID:5ba08d87aa4a994c4159a0db@squarespace.com
DTSTAMP:20190122T013525Z
DTSTART:20181207T133000Z
DTEND:20181221T163000Z
SUMMARY:Open Legs Training
END:VEVENT
END:VCALENDAR
