BEGIN:VCALENDAR
VERSION:2.0
PRODID:-//Squarespace Inc/Squarespace 6//v6//EN
BEGIN:VEVENT
UID:5b878d100ebbe8d7d0257fe3@squarespace.com
DTSTAMP:20180920T061142Z
DTSTART:20180928T140000Z
DTEND:20180928T160000Z
SUMMARY:[SOLD OUT] Working with the Wall
GEO:-33.873483;151.151323
LOCATION:Red Box\, 91 Canal Road\, Lilyfield\, NSW\, 2040\, Australia
END:VEVENT
END:VCALENDAR
