BEGIN:VCALENDAR
VERSION:2.0
PRODID:-//Squarespace Inc/Squarespace 6//v6//EN
BEGIN:VEVENT
UID:6025d88f2445f77a78f50ff6@squarespace.com
DTSTAMP:20210212T012440Z
DTSTART:20210913T150000Z
DTEND:20210913T162000Z
SUMMARY:Man With The Iron Neck - Gold Coast
GEO:-28.001271;153.416713
LOCATION:HOTA | Home of the Arts\, 135 Bundall Road\, Surfers Paradise QLD\
 , Australia
END:VEVENT
END:VCALENDAR
