BEGIN:VCALENDAR
VERSION:2.0
PRODID:-//Squarespace Inc/Squarespace 6//v6//EN
BEGIN:VEVENT
UID:6025d70e368a713f9b9dfe7e@squarespace.com
DTSTAMP:20210212T012228Z
DTSTART:20210911T233000Z
DTEND:20210912T005000Z
SUMMARY:Man With The Iron Neck - Gold Coast
GEO:-28.001271;153.416713
LOCATION:HOTA | Home of the Arts\, 135 Bundall Road\, Surfers Paradise QLD\
 , Australia
END:VEVENT
END:VCALENDAR
