BEGIN:VCALENDAR
VERSION:2.0
PRODID:-//Squarespace Inc/Squarespace 6//v6//EN
BEGIN:VEVENT
UID:5b85f59eb8a045dcb8633748@squarespace.com
DTSTAMP:20180829T012438Z
DTSTART:20181023T130000Z
DTEND:20181107T050000Z
SUMMARY:Red Box - Unavailable
END:VEVENT
END:VCALENDAR
