BEGIN:VCALENDAR
VERSION:2.0
PRODID:-//Squarespace Inc/Squarespace 6//v6//EN
BEGIN:VEVENT
UID:5c171cad032be42f61368bce@squarespace.com
DTSTAMP:20181217T034930Z
DTSTART:20181217T040000Z
DTEND:20181221T050000Z
SUMMARY:Red Box - Unavailable
END:VEVENT
END:VCALENDAR
