BEGIN:VCALENDAR
VERSION:2.0
PRODID:-//Squarespace Inc/Squarespace 6//v6//EN
BEGIN:VEVENT
UID:5b85cb7b032be4bb3625427f@squarespace.com
DTSTAMP:20180829T012627Z
DTSTART:20180101T140000Z
DTEND:20190201T050000Z
SUMMARY:Studio - Unavailable
END:VEVENT
END:VCALENDAR
