BEGIN:VCALENDAR
VERSION:2.0
PRODID:-//Squarespace Inc/Squarespace 6//v6//EN
BEGIN:VEVENT
UID:5b85cb49575d1fbc3b9ed228@squarespace.com
DTSTAMP:20180829T012335Z
DTSTART:20180101T123000Z
DTEND:20181021T040000Z
SUMMARY:Red Box - Unavailable
END:VEVENT
END:VCALENDAR
