BEGIN:VCALENDAR
VERSION:2.0
PRODID:-//Squarespace Inc/Squarespace 6//v6//EN
BEGIN:VEVENT
UID:5c171d01f950b7d4a3745ede@squarespace.com
DTSTAMP:20190116T055534Z
DTSTART:20190201T040000Z
DTEND:20190201T050000Z
SUMMARY:Red Box - Unavailable
END:VEVENT
END:VCALENDAR
