BEGIN:VCALENDAR
VERSION:2.0
PRODID:-//Squarespace Inc/Squarespace 6//v6//EN
BEGIN:VEVENT
UID:5c171cec03ce649dbaca0f1b@squarespace.com
DTSTAMP:20181217T035018Z
DTSTART:20190110T040000Z
DTEND:20190122T050000Z
SUMMARY:Red Box - Unavailable
END:VEVENT
END:VCALENDAR
