BEGIN:VCALENDAR
VERSION:2.0
PRODID:-//Squarespace Inc/Squarespace 6//v6//EN
BEGIN:VEVENT
UID:5c3eca0e4ae237f91b770f59@squarespace.com
DTSTAMP:20190116T060719Z
DTSTART:20191104T063000Z
DTEND:20191115T073000Z
SUMMARY:Red Box - Unavailable
END:VEVENT
END:VCALENDAR
