BEGIN:VCALENDAR
VERSION:2.0
PRODID:-//Squarespace Inc/Squarespace 6//v6//EN
BEGIN:VEVENT
UID:5c3eca20575d1f82ff8bd5c0@squarespace.com
DTSTAMP:20190116T060743Z
DTSTART:20191202T063000Z
DTEND:20191213T073000Z
SUMMARY:Red Box - Unavailable
END:VEVENT
END:VCALENDAR
