BEGIN:VCALENDAR
VERSION:2.0
PRODID:-//Squarespace Inc/Squarespace 6//v6//EN
BEGIN:VEVENT
UID:5c171d5a352f53eec97021a7@squarespace.com
DTSTAMP:20181217T035222Z
DTSTART:20190203T040000Z
DTEND:20190217T050000Z
SUMMARY:Studio - Unavailable
END:VEVENT
END:VCALENDAR
