BEGIN:VCALENDAR
VERSION:2.0
PRODID:-//Squarespace Inc/Squarespace 6//v6//EN
BEGIN:VEVENT
UID:5c171d7d6d2a733821a0fa1e@squarespace.com
DTSTAMP:20181217T035245Z
DTSTART:20190222T040000Z
DTEND:20190223T050000Z
SUMMARY:Studio - Unavailable
END:VEVENT
END:VCALENDAR
