BEGIN:VCALENDAR
VERSION:2.0
PRODID:-//Squarespace Inc/Squarespace 6//v6//EN
BEGIN:VEVENT
UID:5c171d942b6a28e46b75a9cd@squarespace.com
DTSTAMP:20190116T055855Z
DTSTART:20190309T050000Z
DTEND:20190330T050000Z
SUMMARY:Studio - Unavailable
END:VEVENT
END:VCALENDAR
