BEGIN:VCALENDAR
VERSION:2.0
PRODID:-//Squarespace Inc/Squarespace 6//v6//EN
BEGIN:VEVENT
UID:5c3ec983575d1f82ff8bd088@squarespace.com
DTSTAMP:20190116T060513Z
DTSTART:20190527T073000Z
DTEND:20190617T083000Z
SUMMARY:Red Box - Unavailable
END:VEVENT
END:VCALENDAR
