BEGIN:VCALENDAR
VERSION:2.0
PRODID:-//Squarespace Inc/Squarespace 6//v6//EN
BEGIN:VEVENT
UID:5c3ec9a44d7a9c53a5c34579@squarespace.com
DTSTAMP:20190116T060552Z
DTSTART:20190627T073000Z
DTEND:20190803T083000Z
SUMMARY:Red Box - Unavailable
END:VEVENT
END:VCALENDAR
