BEGIN:VCALENDAR
VERSION:2.0
PRODID:-//Squarespace Inc/Squarespace 6//v6//EN
BEGIN:VEVENT
UID:5c3ec9c903ce646dc64b9915@squarespace.com
DTSTAMP:20190116T060622Z
DTSTART:20190812T073000Z
DTEND:20190915T083000Z
SUMMARY:Red Box - Unavailable
END:VEVENT
END:VCALENDAR
