BEGIN:VCALENDAR
VERSION:2.0
PRODID:-//Squarespace Inc/Squarespace 6//v6//EN
BEGIN:VEVENT
UID:5c3ec9e621c67c3d28ee6a71@squarespace.com
DTSTAMP:20190116T060657Z
DTSTART:20190812T073000Z
DTEND:20191231T073000Z
SUMMARY:Studio - Unavailable
END:VEVENT
END:VCALENDAR
