BEGIN:VCALENDAR
VERSION:2.0
PRODID:-//Squarespace Inc/Squarespace 6//v6//EN
BEGIN:VEVENT
UID:5c171dc08a922db9dfc349c7@squarespace.com
DTSTAMP:20181217T035353Z
DTSTART:20190824T050000Z
DTEND:20190914T060000Z
SUMMARY:Red Box - Unavailable
END:VEVENT
END:VCALENDAR
