BEGIN:VCALENDAR
VERSION:2.0
PRODID:-//Squarespace Inc/Squarespace 6//v6//EN
BEGIN:VEVENT
UID:5b6a7cbe0e2e72497acbf87c@squarespace.com
DTSTAMP:20180808T051939Z
DTSTART:20180825T140000Z
DTEND:20180826T200000Z
SUMMARY:Working with the Wall
GEO:-33.873483;151.151323
LOCATION:Legs on the Wall\, 91 Canal Road\, Lilyfield\, NSW\, 2040\, Austra
 lia
END:VEVENT
END:VCALENDAR
