BEGIN:VCALENDAR
VERSION:2.0
PRODID:-//Squarespace Inc/Squarespace 6//v6//EN
BEGIN:VEVENT
UID:5b878d9f4d7a9cdc9afc2a66@squarespace.com
DTSTAMP:20180911T041608Z
DTSTART:20180929T130000Z
DTEND:20180929T150000Z
SUMMARY:Aerial Performance Workshop
GEO:37.033234;-95.639863
LOCATION:Red Box\, 91 Canal Road\, Lilyfield\, NSW\, 2040\, Australia
END:VEVENT
END:VCALENDAR
