BEGIN:VCALENDAR
VERSION:2.0
PRODID:-//Squarespace Inc/Squarespace 6//v6//EN
BEGIN:VEVENT
UID:5b878be54fa51a22c6902c81@squarespace.com
DTSTAMP:20180830T062142Z
DTSTART:20180930T170000Z
DTEND:20180930T183000Z
SUMMARY:Storytelling through Physical Theatre
GEO:-33.873483;151.151323
LOCATION:Red Box\, 91 Canal Road\, Lilyfield\, NSW\, Australia
END:VEVENT
END:VCALENDAR
