BEGIN:VCALENDAR
VERSION:2.0
PRODID:-//Squarespace Inc/Squarespace 6//v6//EN
BEGIN:VEVENT
UID:5d1963d313050b0001719d1a@squarespace.com
DTSTAMP:20190704T004627Z
DTSTART:20190914T140000Z
DTEND:20190915T170000Z
SUMMARY:Creative Tumbling
GEO:-33.873483;151.151323
LOCATION:Legs on the Wall\, 91 Canal Road\, Lilyfield\, Australia
END:VEVENT
END:VCALENDAR
