BEGIN:VCALENDAR
VERSION:2.0
PRODID:-//Squarespace Inc/Squarespace 6//v6//EN
BEGIN:VEVENT
UID:5c5bbedd8165f548cf6b57e1@squarespace.com
DTSTAMP:20190701T013723Z
DTSTART:20190330T140000Z
DTEND:20190331T170000Z
SUMMARY:Creative Tumbling
GEO:-33.873483;151.151323
LOCATION:Legs on the Wall\, 91 Canal Road\, Lilyfield\, Australia
END:VEVENT
END:VCALENDAR
