BEGIN:VCALENDAR
VERSION:2.0
PRODID:-//Squarespace Inc/Squarespace 6//v6//EN
BEGIN:VEVENT
UID:5e574fb3d241b63a4241e7ff@squarespace.com
DTSTAMP:20200521T035913Z
DTSTART:20200313T140000Z
DTEND:20200327T140000Z
SUMMARY:Industry Training at Legs - postponed until further notice.
GEO:-33.872615;151.15112
LOCATION:Legs On The Wall\, 91 Canal Road\, Lilyfield\, Australia
END:VEVENT
END:VCALENDAR
