BEGIN:VCALENDAR
VERSION:2.0
PRODID:-//Squarespace Inc/Squarespace 6//v6//EN
BEGIN:VEVENT
UID:5cf89e4abcf60a0001acdd11@squarespace.com
DTSTAMP:20190606T050328Z
DTSTART:20190607T140000Z
DTEND:20190705T153000Z
SUMMARY:Industry Training at Legs
END:VEVENT
END:VCALENDAR
