BEGIN:VCALENDAR
VERSION:2.0
PRODID:-//Squarespace Inc/Squarespace 6//v6//EN
BEGIN:VEVENT
UID:5cc7da83fa0d6046f3f991d8@squarespace.com
DTSTAMP:20190606T050202Z
DTSTART:20190503T140000Z
DTEND:20190525T000000Z
SUMMARY:Industry Training at Legs
END:VEVENT
END:VCALENDAR
