BEGIN:VCALENDAR
VERSION:2.0
PRODID:-//Squarespace Inc/Squarespace 6//v6//EN
BEGIN:VEVENT
UID:5f9b5d64f06f7953d67d373d@squarespace.com
DTSTAMP:20201112T003617Z
DTSTART:20201113T150000Z
DTEND:20201113T160000Z
SUMMARY:November Training
END:VEVENT
END:VCALENDAR
