BEGIN:VCALENDAR
VERSION:2.0
PRODID:-//Squarespace Inc/Squarespace 6//v6//EN
BEGIN:VEVENT
UID:60383a58985f1c5cc527b565@squarespace.com
DTSTAMP:20210226T001123Z
DTSTART:20210312T150000Z
DTEND:20210312T163000Z
SUMMARY:More on the Floor
END:VEVENT
END:VCALENDAR
