BEGIN:VCALENDAR
VERSION:2.0
PRODID:-//Squarespace Inc/Squarespace 6//v6//EN
BEGIN:VEVENT
UID:6020ce02c655160d06a948f2@squarespace.com
DTSTAMP:20210208T060700Z
DTSTART:20210215T150000Z
DTEND:20210215T163000Z
SUMMARY:Manic Monday
END:VEVENT
END:VCALENDAR
